BEGIN:VCALENDAR
VERSION:2.0
PRODID:-//Profound - ECPv4.8.1//NONSGML v1.0//EN
CALSCALE:GREGORIAN
METHOD:PUBLISH
X-WR-CALNAME:Profound
X-ORIGINAL-URL:http://profound.eu.com
X-WR-CALDESC:Events for Profound
BEGIN:VEVENT
DTSTART;TZID=UTC+0:20140916T100000
DTEND;TZID=UTC+0:20140918T160000
DTSTAMP:20260422T191627
CREATED:20140925T120857Z
LAST-MODIFIED:20140925T123350Z
UID:4065-1410861600-1411056000@profound.eu.com
SUMMARY:Consortium Meeting - Amsterdam\, NL
DESCRIPTION:Partner meeting\nLocation: EuroSafe\, Rijswijkstraat 2\, 1059 GK\nAmsterdam\, The Netherlands. \n
URL:http://profound.eu.com/event/consortium-meeting-amsterdam-nl/
LOCATION:Amsterdam\, Netherlands
CATEGORIES:Consortium Meeting
ATTACH;FMTTYPE=image/png:http://profound.eu.com/wp-content/uploads/2014/09/ProFouND_Logo.png
END:VEVENT
END:VCALENDAR