BEGIN:VCALENDAR
VERSION:2.0
PRODID:-//Profound - ECPv4.8.1//NONSGML v1.0//EN
CALSCALE:GREGORIAN
METHOD:PUBLISH
X-WR-CALNAME:Profound
X-ORIGINAL-URL:http://profound.eu.com
X-WR-CALDESC:Events for Profound
BEGIN:VEVENT
DTSTART;VALUE=DATE:20171101
DTEND;VALUE=DATE:20171105
DTSTAMP:20260422T205720
CREATED:20170905T114255Z
LAST-MODIFIED:20170905T114255Z
UID:1067588-1509494400-1509839999@profound.eu.com
SUMMARY:European Public Health Conference
DESCRIPTION:The EPH Conference aims to contribute to the improvement of public health in Europe by offering a means for exchanging information and a platform for debate to researchers\, policy makers\, and practitioners in the field of public health and health services research as well as public health training and education in Europe. The European Public Health Conference Foundation\, the European Public Health Association (EUPHA) and the Swedish Association of Social Medicine are pleased to invite you to the 10th European Public Health Conference. \nThe 10th European Public Health Conference will be held in the Stockholmsmässan.  \nYou can find more information here \n
URL:http://profound.eu.com/event/european-public-health-conference/
LOCATION:Stockholmsmässan\, Mässvägen 1 Älvsjö\, Stockholm \, Sweden
CATEGORIES:Conference
ATTACH;FMTTYPE=image/png:http://profound.eu.com/wp-content/uploads/2017/09/European-Public-Health-Conference.png
END:VEVENT
END:VCALENDAR