BEGIN:VCALENDAR
VERSION:2.0
PRODID:-//Profound - ECPv4.8.1//NONSGML v1.0//EN
CALSCALE:GREGORIAN
METHOD:PUBLISH
X-WR-CALNAME:Profound
X-ORIGINAL-URL:http://profound.eu.com
X-WR-CALDESC:Events for Profound
BEGIN:VEVENT
DTSTART;VALUE=DATE:20161205
DTEND;VALUE=DATE:20161209
DTSTAMP:20260422T205900
CREATED:20160913T104840Z
LAST-MODIFIED:20160913T140751Z
UID:681493-1480896000-1481241599@profound.eu.com
SUMMARY:European Summit on Digital Innovation for Active & Healthy Ageing
DESCRIPTION:Programme\nThe event will bring together business leaders from industrial companies and SMEs\, national and regional ministers and authorities\, global “thinkers”\, the investment community\, healthcare\, technology companies\, civil society and media. The 2016 Summit will also include an international audience (guests from Government of Japan\, Canada and USA) building on the 2016 G7 Ministerial (ICT Ministers)\, representatives from the World Health Organisation and the Organisation for Economic Cooperation and Development (OECD). \nConference Programme \n
URL:http://profound.eu.com/event/european-summit-on-digital-innovation-for-active-healthy-ageing/
ATTACH;FMTTYPE=image/jpeg:http://profound.eu.com/wp-content/uploads/2014/09/default-thumb.jpg
END:VEVENT
END:VCALENDAR