BEGIN:VCALENDAR
VERSION:2.0
PRODID:-//Profound - ECPv4.8.1//NONSGML v1.0//EN
CALSCALE:GREGORIAN
METHOD:PUBLISH
X-WR-CALNAME:Profound
X-ORIGINAL-URL:http://profound.eu.com
X-WR-CALDESC:Events for Profound
BEGIN:VEVENT
DTSTART;TZID=UTC+0:20180425T150000
DTEND;TZID=UTC+0:20180425T160000
DTSTAMP:20260422T204506
CREATED:20180416T150234Z
LAST-MODIFIED:20180416T150415Z
UID:1124099-1524668400-1524672000@profound.eu.com
SUMMARY:LLT Webinar
DESCRIPTION:Title: Return on Investment – FaME (PSI) and Otago – Cost Effective Interventions for Falls \nThe aim of this webinar is to give an overview of the FaME and Otago Structured Exercise Falls Prevention Interventions. These two evidence-based programmes have been highlighted in the Public Health England (PHE) Consensus Statement on Falls and Fractures and in the PHE Return on Investment Tool as cost-effective. The importance of fidelity to the original interventions for effective\nreduction in falls (as opposed to reductions in potential risk with improvements in strength and balance) will be covered. The key elements of these interventions\, which lead to effectiveness\, will be discussed\, as will the implications of cutting corners. \nYou can find the flyer here \n
URL:http://profound.eu.com/event/llt-webinar/
ATTACH;FMTTYPE=image/png:http://profound.eu.com/wp-content/uploads/2018/04/llt_webinar.png
END:VEVENT
END:VCALENDAR